BEGIN:VCALENDAR
VERSION:2.0
PRODID:-//ENB Par - ECPv6.0.13.1//NONSGML v1.0//EN
CALSCALE:GREGORIAN
METHOD:PUBLISH
X-ORIGINAL-URL:https://cpeesaci.procel.enbpar.gov.br
X-WR-CALDESC:Eventos para ENB Par
REFRESH-INTERVAL;VALUE=DURATION:PT1H
X-Robots-Tag:noindex
X-PUBLISHED-TTL:PT1H
BEGIN:VTIMEZONE
TZID:America/Sao_Paulo
BEGIN:STANDARD
TZOFFSETFROM:-0300
TZOFFSETTO:-0300
TZNAME:-03
DTSTART:20250101T000000
END:STANDARD
END:VTIMEZONE
BEGIN:VEVENT
DTSTART;TZID=America/Sao_Paulo:20250623T000000
DTEND;TZID=America/Sao_Paulo:20250627T235900
DTSTAMP:20260420T060920
CREATED:20240822T145821Z
LAST-MODIFIED:20241213T120646Z
UID:19988-1750636800-1751068740@cpeesaci.procel.enbpar.gov.br
SUMMARY:Período para elaboração de ajustes/recursos das inscrições de participantes que apresentaram alguma não conformidade de cadastro
DESCRIPTION:
URL:https://cpeesaci.procel.enbpar.gov.br/event/periodo-para-elaboracao-de-ajustes-recursos-das-inscricoes-de-participantes-que-apresentaram-alguma-nao-conformidade-de-cadastro/
CATEGORIES:Cronograma
END:VEVENT
END:VCALENDAR